BEGIN:VCALENDAR
VERSION:2.0
PRODID:-//Illinois Bat Conservation Program - ECPv6.15.20//NONSGML v1.0//EN
CALSCALE:GREGORIAN
METHOD:PUBLISH
X-ORIGINAL-URL:https://www.illinoisbats.org
X-WR-CALDESC:Events for Illinois Bat Conservation Program
REFRESH-INTERVAL;VALUE=DURATION:PT1H
X-Robots-Tag:noindex
X-PUBLISHED-TTL:PT1H
BEGIN:VTIMEZONE
TZID:America/Chicago
BEGIN:DAYLIGHT
TZOFFSETFROM:-0600
TZOFFSETTO:-0500
TZNAME:CDT
DTSTART:20180311T080000
END:DAYLIGHT
BEGIN:STANDARD
TZOFFSETFROM:-0500
TZOFFSETTO:-0600
TZNAME:CST
DTSTART:20181104T070000
END:STANDARD
BEGIN:DAYLIGHT
TZOFFSETFROM:-0600
TZOFFSETTO:-0500
TZNAME:CDT
DTSTART:20190310T080000
END:DAYLIGHT
BEGIN:STANDARD
TZOFFSETFROM:-0500
TZOFFSETTO:-0600
TZNAME:CST
DTSTART:20191103T070000
END:STANDARD
BEGIN:DAYLIGHT
TZOFFSETFROM:-0600
TZOFFSETTO:-0500
TZNAME:CDT
DTSTART:20200308T080000
END:DAYLIGHT
BEGIN:STANDARD
TZOFFSETFROM:-0500
TZOFFSETTO:-0600
TZNAME:CST
DTSTART:20201101T070000
END:STANDARD
BEGIN:DAYLIGHT
TZOFFSETFROM:-0600
TZOFFSETTO:-0500
TZNAME:CDT
DTSTART:20210314T080000
END:DAYLIGHT
BEGIN:STANDARD
TZOFFSETFROM:-0500
TZOFFSETTO:-0600
TZNAME:CST
DTSTART:20211107T070000
END:STANDARD
BEGIN:DAYLIGHT
TZOFFSETFROM:-0600
TZOFFSETTO:-0500
TZNAME:CDT
DTSTART:20220313T080000
END:DAYLIGHT
BEGIN:STANDARD
TZOFFSETFROM:-0500
TZOFFSETTO:-0600
TZNAME:CST
DTSTART:20221106T070000
END:STANDARD
BEGIN:DAYLIGHT
TZOFFSETFROM:-0600
TZOFFSETTO:-0500
TZNAME:CDT
DTSTART:20230312T080000
END:DAYLIGHT
BEGIN:STANDARD
TZOFFSETFROM:-0500
TZOFFSETTO:-0600
TZNAME:CST
DTSTART:20231105T070000
END:STANDARD
BEGIN:DAYLIGHT
TZOFFSETFROM:-0600
TZOFFSETTO:-0500
TZNAME:CDT
DTSTART:20240310T080000
END:DAYLIGHT
BEGIN:STANDARD
TZOFFSETFROM:-0500
TZOFFSETTO:-0600
TZNAME:CST
DTSTART:20241103T070000
END:STANDARD
BEGIN:DAYLIGHT
TZOFFSETFROM:-0600
TZOFFSETTO:-0500
TZNAME:CDT
DTSTART:20250309T080000
END:DAYLIGHT
BEGIN:STANDARD
TZOFFSETFROM:-0500
TZOFFSETTO:-0600
TZNAME:CST
DTSTART:20251102T070000
END:STANDARD
END:VTIMEZONE
BEGIN:VEVENT
DTSTART;TZID=America/Chicago:20240324T140000
DTEND;TZID=America/Chicago:20240324T153000
DTSTAMP:20260423T055722
CREATED:20240308T162728Z
LAST-MODIFIED:20240308T162805Z
UID:1203-1711288800-1711294200@www.illinoisbats.org
SUMMARY:Earth Awareness Fair
DESCRIPTION:Register at: https://frankfort.librarycalendar.com/event/earth-awareness-fair-8446\nMeeting Room A/B\n 
URL:https://www.illinoisbats.org/event/earth-awareness-fair/
LOCATION:Frankfort Public Library\, 21119 S Pfeiffer Rd.\, Frankfort\, IL
END:VEVENT
BEGIN:VEVENT
DTSTART;TZID=America/Chicago:20231017T180000
DTEND;TZID=America/Chicago:20231017T200000
DTSTAMP:20260423T055722
CREATED:20230429T001907Z
LAST-MODIFIED:20231009T152056Z
UID:1121-1697565600-1697572800@www.illinoisbats.org
SUMMARY:Neighbor Nights at The National Great Rivers Research and Education Center
DESCRIPTION:Join the Illinois Bat Conservation Program at the National Great Rivers Research and Education Center on October 17th at 6:00pm! We will talk about bats in Illinois and see if we can pick up any bat echolocation calls on our detectors!
URL:https://www.illinoisbats.org/event/neighbor-nights-at-the-national-great-rivers-research-and-education-center/
LOCATION:National Great Rivers Research and Education Center\, 1 Confluence Way\, East Alton\, Illinois\, 62024
END:VEVENT
BEGIN:VEVENT
DTSTART;TZID=America/Chicago:20231013T170000
DTEND;TZID=America/Chicago:20231013T200000
DTSTAMP:20260423T055722
CREATED:20231009T151945Z
LAST-MODIFIED:20231009T151945Z
UID:1156-1697216400-1697227200@www.illinoisbats.org
SUMMARY:Fireside Friday
DESCRIPTION:Tickets are $5 per person\, children 5 and under are free.  A cash bar will be open from 5-8pm.  S’mores will be served.  Please bring your own lawn chairs. \n 
URL:https://www.illinoisbats.org/event/fireside-friday/
LOCATION:Allerton Park
END:VEVENT
BEGIN:VEVENT
DTSTART;TZID=America/Chicago:20230930T183000
DTEND;TZID=America/Chicago:20230930T203000
DTSTAMP:20260423T055722
CREATED:20230429T000821Z
LAST-MODIFIED:20230906T155041Z
UID:1119-1696098600-1696105800@www.illinoisbats.org
SUMMARY:Bat Hike at Starved Rock State Park
DESCRIPTION:This event is full\, please look out for future bat programs! \nJoin the Illinois Bat Conservation Program at Starved Rock State Park for a fun night talking about bats in Illinois and joining them for an evening walk with acoustic detectors that record bat echolocation calls! The program will start at 6:30pm on September 30th.
URL:https://www.illinoisbats.org/event/bat-hike-at-starved-rock-state-park/
LOCATION:Starved Rock State Park Visitor Center\, Oglesby\, IL\, United States
END:VEVENT
BEGIN:VEVENT
DTSTART;TZID=America/Chicago:20230506T090000
DTEND;TZID=America/Chicago:20230506T130000
DTSTAMP:20260423T055722
CREATED:20230428T235413Z
LAST-MODIFIED:20230428T235413Z
UID:1106-1683363600-1683378000@www.illinoisbats.org
SUMMARY:Growin Green Garden Market 2023
DESCRIPTION:Visit the Illinois Bat Conservation Program on May 6th at the Growin’ Green Garden Market in Addison\, IL! Learn about how bats benefit your backyard and what plants attract bats!
URL:https://www.illinoisbats.org/event/growin-green-garden-market-2023/
LOCATION:800 S Rohlwing Rd Addison IL\, 800 S Rohlwing Rd.\, Addison\, IL\, United States
END:VEVENT
BEGIN:VEVENT
DTSTART;TZID=America/Chicago:20221027T180000
DTEND;TZID=America/Chicago:20221027T183000
DTSTAMP:20260423T055722
CREATED:20221012T202819Z
LAST-MODIFIED:20221012T202819Z
UID:1024-1666893600-1666895400@www.illinoisbats.org
SUMMARY:Learn About Illinois Bats with DeKalb Library
DESCRIPTION:
URL:https://www.illinoisbats.org/event/learn-about-illinois-bats-with-dekalb-library/
LOCATION:IL
END:VEVENT
BEGIN:VEVENT
DTSTART;TZID=America/Chicago:20220430T090000
DTEND;TZID=America/Chicago:20220430T130000
DTSTAMP:20260423T055722
CREATED:20220422T203307Z
LAST-MODIFIED:20220422T205024Z
UID:972-1651309200-1651323600@www.illinoisbats.org
SUMMARY:Growin Green Garden Market 2022
DESCRIPTION:Come visit the Growin Green Garden Market in Addison Illinois (800 S Rohlwing Rd (IL Rt 53))! The IBCP Team will have a booth talking about the benefits bats can have in your backyard and garden! Details below. \n 
URL:https://www.illinoisbats.org/event/growin-green-garden-market-2022/
LOCATION:IL
END:VEVENT
BEGIN:VEVENT
DTSTART;TZID=America/Chicago:20210523T130000
DTEND;TZID=America/Chicago:20210523T140000
DTSTAMP:20260423T055722
CREATED:20201214T183009Z
LAST-MODIFIED:20201208T185201Z
UID:836-1621774800-1621778400@www.illinoisbats.org
SUMMARY:Illinois Bats!
DESCRIPTION:  \n  \nAssistant coordinator\, Brittany Rogness will be presenting in a virtual zoom event through the Tolono Public Library District about bats in Illinois! Join us May 23rd from 1:00 – 2:00pm. \nContact the Tolono Public Library District for more information!
URL:https://www.illinoisbats.org/event/illinois-bats/
LOCATION:IL
ORGANIZER;CN="Tolono Public Library District":MAILTO:programs@tolonolibrary.com
END:VEVENT
BEGIN:VEVENT
DTSTART;VALUE=DATE:20190809
DTEND;VALUE=DATE:20190812
DTSTAMP:20260423T055722
CREATED:20190709T200915Z
LAST-MODIFIED:20190709T200915Z
UID:654-1565308800-1565567999@www.illinoisbats.org
SUMMARY:Illinois State Fair
DESCRIPTION:Join the fun at the state fair with the Illinois Bat Conservation Program! \nWe will be tabling with the Illinois State Water Survey\, Illinois State Museum\, Dickson Mounds Museum and the Illinois State Archaeological Society including talking about our work and providing activities for the kids – come stop by! \n 
URL:https://www.illinoisbats.org/event/illinois-state-fair/
LOCATION:Conservation World
END:VEVENT
BEGIN:VEVENT
DTSTART;TZID=America/Chicago:20190725T173000
DTEND;TZID=America/Chicago:20190725T200000
DTSTAMP:20260423T055722
CREATED:20190709T195700Z
LAST-MODIFIED:20190709T195700Z
UID:651-1564075800-1564084800@www.illinoisbats.org
SUMMARY:Cosley Zoo Uncorked
DESCRIPTION:Join us at the Cosley Zoo for after hours wine tasting\, zoo animals and live entertainment. \nWe will be there with a table to talk about our program and answer any bat questions. The proceeds from the sale of the wine “Stoppers to Stop Extinction” at the event will be donated to the Illinois Bat Conservation Program!
URL:https://www.illinoisbats.org/event/cosley-zoo-uncorked/
LOCATION:Cosley Zoo\, 1356 North Gary Ave.\, Wheaton\, IL\, United States
END:VEVENT
END:VCALENDAR